Workbook

Sheet Результаты
A2: № п/п | B2: ВПК младшие | E2: физ.подготовка | L2: огневая подготовка
E3: пресс (баллы) | F3: отжим баллы (девуш.) подтягивание баллы (юн) | G3: челночный бег (баллы) | H3: метание гранат (м) | I3: гиря | J3: викторина (баллы) | K3: метание ножей (очки) | L3: сборка, разборка автомата снаряжение магазина(с) | M3: магазин | N3: стрельба винтовка | O3: изготовка к бою лежа (баллы) | P3: Фаертаг | Q3: Штурмовая полоса | R3: метание гранат на точность (баллы)
B4: №команды | C4: Название команды | D4: Фамилия, имя участника команды
A5: 1 | B5: 1 | C5: ВПК Десант Богатое | D5: Салькин Дамир | E5: 40 | F5: 54 | G5: 80 | H5: 24.6 | J5: 25 | K5: 10 | L5: 30.07 | M5: 30.48 | N5: 23 | O5: 5 | R5: 40
A6: 2 | B6: =B5 -> 1 | D6: Рузавкин Дмитрий | E6: 35 | F6: 6 | G6: 18 | H6: 32.7 | J6: 23 | K6: 0 | L6: 35.79 | M6: 38.28 | N6: 20 | O6: 5 | R6: 70
A7: 3 | B7: =B5 -> 1 | D7: Мельниченко Даниил | E7: 24 | F7: 6 | G7: 15 | H7: 30.5 | I7: 18 | J7: 22 | K7: 0 | L7: 42.73 | M7: 37.6 | N7: 13 | O7: 4 | R7: 0
A8: 4 | B8: =B5 -> 1 | D8: Прокопчук Варвара | E8: 30 | F8: 42 | G8: 63 | H8: 22.4 | J8: 23 | K8: 0 | L8: 40.13 | M8: 36.57 | N8: 8 | O8: 5 | R8: 0
A9: 5 | B9: 2 | C9: ВПК ЮО "Гвардия" с.Богатое | D9: Лавринов Дмитрий | E9: 64 | F9: 62 | G9: 21 | H9: 25.3 | J9: 22 | K9: 0 | L9: 33.14 | M9: 32.03 | N9: 4 | O9: 5 | R9: 0
A10: 6 | B10: =B9 -> 2 | D10: Цымбал Павел | E10: 62 | F10: 50 | G10: 20 | H10: 30 | J10: 25 | K10: 0 | L10: 37.06 | M10: 35.58 | N10: 6 | O10: 5 | R10: 0
A11: 7 | B11: =B9 -> 2 | D11: Козлов Дмитрий | E11: 74 | F11: 0 | G11: 21 | H11: 30 | I11: 15 | J11: 24 | K11: 0 | L11: 78.15 | M11: 39.74 | N11: 19 | O11: 5 | R11: 0
A12: 8 | B12: =B9 -> 2 | D12: Попова Кира | E12: 56 | F12: 34 | G12: 68 | H12: 16.5 | J12: 24 | K12: 5 | L12: 66.14 | M12: 44.91 | N12: 4 | O12: 2 | R12: 0
A13: 9 | B13: 3 | C13: ВПК "Гвардеец ДОСААФ" г.Отрадный | D13: Звягин Илья | E13: 38 | F13: 16 | G13: 21 | H13: 42.4 | I13: 16 | J13: 24 | K13: 0 | L13: 31.25 | M13: 38.58 | N13: 8 | O13: 5 | R13: 0
A14: 10 | B14: =$B$13 -> 3 | D14: Мартемьянов Никита | E14: 32 | F14: 42 | G14: 19 | H14: 30.4 | J14: 22 | K14: 5 | L14: 35.34 | M14: 45.95 | N14: 20 | O14: 3 | R14: 40
A15: 11 | B15: =$B$13 -> 3 | D15: Лемешко Алексей | E15: 40 | F15: 34 | G15: 16 | H15: 20 | J15: 21 | K15: 15 | L15: 38.63 | M15: 53.3 | N15: 1 | O15: 3 | R15: 70
A16: 12 | B16: =$B$13 -> 3 | D16: Ганичкина Софья | E16: 60 | F16: 86 | G16: 82 | H16: 21.7 | J16: 22 | K16: 10 | L16: 32.15 | M16: 37.95 | N16: 14 | O16: 4 | R16: 40
A17: 13 | B17: 4 | C17: "Кадеты" шк.95 Самара | D17: Шевченко Андрей | E17: 48 | F17: 58 | G17: 20 | H17: 29 | I17: 14 | J17: 24 | K17: 0 | L17: 29.71 | M17: 56.53 | N17: 9 | O17: 5 | R17: 0
A18: 14 | B18: =$B$17 -> 4 | D18: Прохоров Никита | E18: 50 | F18: 58 | G18: 32 | H18: 38.6 | J18: 23 | K18: 0 | L18: 29.44 | M18: 35.49 | N18: 2 | O18: 3 | R18: 40
A19: 15 | B19: =$B$17 -> 4 | D19: Грушута Георий | E19: 58 | F19: 66 | G19: 17 | H19: 38.9 | J19: 23 | K19: 0 | L19: 28.97 | M19: 41.1 | N19: 7 | O19: 3 | R19: 40
A20: 16 | B20: =$B$17 -> 4 | D20: Горбань Виолета | E20: 62 | F20: 26 | G20: 72 | H20: 18 | J20: 22 | K20: 0 | L20: 35.07 | M20: 36.89 | N20: 11 | O20: 2 | R20: 40
A21: 17 | B21: 5 | C21: Галеас г.Ясный Оренбург | D21: Смирнов Глеб | E21: 40 | F21: 34 | G21: 26 | H21: 30 | I21: 50 | J21: 20 | K21: 15 | L21: 25.91 | M21: 34.6 | N21: 18 | O21: 4 | R21: 70
A22: 18 | B22: =$B$21 -> 5 | D22: Пащенко Александр | E22: 36 | F22: 54 | G22: 20 | H22: 24 | J22: 18 | K22: 0 | L22: 43.18 | M22: 42.81 | N22: 14 | O22: 4 | R22: 0
A23: 19 | B23: =$B$21 -> 5 | D23: Бенеда Кирилл | E23: 46 | F23: 70 | G23: 18 | H23: 25.4 | J23: 11 | K23: 0 | L23: 55.42 | M23: 56.93 | N23: 18 | O23: 3 | R23: 40
A24: 20 | B24: =$B$21 -> 5 | D24: Трипольская Анастасия | E24: 62 | F24: 100 | G24: 65 | H24: 16.5 | J24: 21 | K24: 0 | L24: 37.89 | M24: 60 | N24: 5 | O24: 2 | R24: 0
A25: 21 | B25: 6 | C25: ВПК Авангард г.Самара | D25: Гречушников Максим | E25: 40 | F25: 26 | G25: 16 | H25: 30.4 | J25: 22 | K25: 0 | L25: 37.77 | M25: 42.16 | N25: 17 | O25: 4 | R25: 0
A26: 22 | B26: =$B$25 -> 6 | D26: Рахимов Тимур | E26: 40 | F26: 54 | G26: 41 | H26: 37.5 | I26: 23 | J26: 22 | K26: 5 | L26: 29.02 | M26: 42.04 | N26: 34 | O26: 3 | R26: 70
A27: 23 | B27: =$B$25 -> 6 | D27: Климов Михаил | E27: 37 | F27: 61 | G27: 29 | H27: 24 | J27: 19 | K27: 5 | L27: 31.73 | M27: 34.19 | N27: 16 | O27: 3 | R27: 40
A28: 24 | B28: =$B$25 -> 6 | D28: Попова Елизавета | E28: 40 | F28: 97 | G28: 84 | H28: 22 | J28: 23 | K28: 0 | L28: 34.88 | M28: 35.9 | N28: 9 | O28: 3 | R28: 40

Sheet итог командный
A2: Участники | C2: Военно-спортивная подготовка | L2: Итог по блоку воен.спортив. подготовка | N2: Огневая подготовка | V2: Итог по блоку огневая подготовка | X2: Военно-прикладные виды | AH2: Итог по блоку военно-прикладные виды | AJ2: Боевая подготовка | AR2: Итог по блоку боевая подготовка | AT2: Силовой марш-бросок К=2 | AV2: Сумма мест | AW2: итоговое место
C3: =Результаты!E3 -> пресс (баллы) | D3: =Результаты!F3 -> отжим баллы (девуш.) подтягивание баллы (юн) | E3: =Результаты!G3 -> челночный бег (баллы) | F3: итог физ.под | H3: =Результаты!H3 -> метание гранат (м) | J3: =Результаты!I3 -> гиря | N3: =Результаты!L3 -> сборка, разборка автомата снаряжение магазина(с) | P3: магазин | R3: =Результаты!N3 -> стрельба винтовка | T3: изготовка к бою | X3: воен.полоса(мин) | Z3: =Результаты!K3 -> метание ножей (очки) | AB3: пейнтбол | AD3: викторина | AF3: тур.полоса | AJ3: фаертаг | AL3: штурмовая полоса | AN3: пейнтбол | AP3: метание гранат на точность | AT3: рейд
A4: № команды | B4: Название команды | C4: баллы | D4: баллы | E4: баллы | F4: баллы | G4: место | H4: результат | I4: место | J4: результат | K4: место | L4: сумма баллов | M4: место | N4: время | O4: место | P4: время | Q4: место | R4: результат | S4: место | T4: баллы | U4: место | V4: сумма мест | W4: место | X4: время | Y4: место | Z4: результат | AA4: место | AB4: результат | AC4: место | AD4: результат | AE4: место | AF4: время | AG4: место | AH4: сумма мест | AI4: место | AJ4: время | AK4: место | AL4: результат | AM4: место | AN4: результат | AO4: место | AP4: результат | AQ4: место | AR4: сумма мест | AS4: место | AT4: результат | AU4: место | AV4: Сумма мест | AW4: итоговое место
A5: 6 | B5: =Результаты!C25 -> ВПК Авангард г.Самара | C5: =Результаты!E25+Результаты!E26+Результаты!E27+Результаты!E28 -> 157 | D5: =Результаты!F25+Результаты!F26+Результаты!F27+Результаты!F28 -> 238 | E5: =Результаты!G25+Результаты!G26+Результаты!G27+Результаты!G28 -> 170 | F5: =C5+D5+E5 -> 565 | G5: 3 | H5: =Результаты!H25+Результаты!H26+Результаты!H27+Результаты!H28 -> 113.9 | I5: 3 | J5: =Результаты!I25+Результаты!I26+Результаты!I27+Результаты!I28 -> 23 | K5: 2 | L5: =G5+I5+K5 -> 8 | M5: 2 | N5: =Результаты!L25+Результаты!L26+Результаты!L27+Результаты!L28 -> 133.4 | O5: 2 | P5: =Результаты!M25+Результаты!M26+Результаты!M27+Результаты!M28 -> 154.29 | Q5: 3 | R5: =Результаты!N25+Результаты!N26+Результаты!N27+Результаты!N28 -> 76 | S5: 1 | T5: =Результаты!O25+Результаты!O26+Результаты!O27+Результаты!O28 -> 13 | U5: 4 | V5: =O5+S5+U5+Q5 -> 10 | W5: 2 | X5: 313.15 | Y5: 5 | Z5: =Результаты!K25+Результаты!K26+Результаты!K27+Результаты!K28 -> 10 | AA5: 3 | AD5: =Результаты!J25+Результаты!J26+Результаты!J27+Результаты!J28 -> 86 | AE5: 5 | AF5: 2.54 | AG5: 2 | AH5: =Y5+AA5+AC5+AE5+AG5 -> 15 | AI5: 5 | AJ5: 1.25 | AK5: 2 | AL5: 3.18 | AM5: 3 | AP5: =Результаты!R25+Результаты!R26+Результаты!R27+Результаты!R28 -> 150 | AQ5: 1 | AR5: =AK5+AM5+AO5+AQ5 -> 6 | AS5: 1 | AT5: 25 | AU5: 1 | AV5: =M5+W5+AI5++AS5+AU5*2 -> 12 | AW5: 1
A6: 5 | B6: =Результаты!C21 -> Галеас г.Ясный Оренбург | C6: =Результаты!E21+Результаты!E22+Результаты!E23+Результаты!E24 -> 184 | D6: =Результаты!F21+Результаты!F22+Результаты!F23+Результаты!F24 -> 258 | E6: =Результаты!G21+Результаты!G22+Результаты!G23+Результаты!G24 -> 129 | F6: =C6+D6+E6 -> 571 | G6: 1 | H6: =Результаты!H21+Результаты!H22+Результаты!H23+Результаты!H24 -> 95.9 | I6: 6 | J6: =Результаты!I21+Результаты!I22+Результаты!I23+Результаты!I24 -> 50 | K6: 1 | L6: =G6+I6+K6 -> 8 | M6: 1 | N6: =Результаты!L21+Результаты!L22+Результаты!L23+Результаты!L24 -> 162.4 | O6: 5 | P6: =Результаты!M21+Результаты!M22+Результаты!M23+Результаты!M24 -> 194.34 | Q6: 6 | R6: =Результаты!N21+Результаты!N22+Результаты!N23+Результаты!N24 -> 55 | S6: 3 | T6: =Результаты!O21+Результаты!O22+Результаты!O23+Результаты!O24 -> 13 | U6: 4 | V6: =O6+S6+U6+Q6 -> 18 | W6: 6 | X6: 278.27 | Y6: 2 | Z6: =Результаты!K21+Результаты!K22+Результаты!K23+Результаты!K24 -> 15 | AA6: 2 | AD6: =Результаты!J21+Результаты!J22+Результаты!J23+Результаты!J24 -> 70 | AE6: 6 | AF6: 3.14 | AG6: 4 | AH6: =Y6+AA6+AC6+AE6+AG6 -> 14 | AI6: 3 | AJ6: 2.38 | AK6: 6 | AL6: 3.2 | AM6: 4 | AP6: =Результаты!R21+Результаты!R22+Результаты!R23+Результаты!R24 -> 110 | AQ6: 4 | AR6: =AK6+AM6+AO6+AQ6 -> 14 | AS6: 6 | AT6: 26 | AU6: 2 | AV6: =M6+W6+AI6++AS6+AU6*2 -> 20 | AW6: 2
A7: 3 | B7: =Результаты!C13 -> ВПК "Гвардеец ДОСААФ" г.Отрадный | C7: =Результаты!E13+Результаты!E14+Результаты!E15+Результаты!E16 -> 170 | D7: =Результаты!F13+Результаты!F14+Результаты!F15+Результаты!F16 -> 178 | E7: =Результаты!G13+Результаты!G14+Результаты!G15+Результаты!G16 -> 138 | F7: =C7+D7+E7 -> 486 | G7: 5 | H7: =Результаты!H13+Результаты!H14+Результаты!H15+Результаты!H16 -> 114.5 | I7: 2 | J7: =Результаты!I13+Результаты!I14+Результаты!I15+Результаты!I16 -> 16 | K7: 4 | L7: =G7+I7+K7 -> 11 | M7: 4 | N7: =Результаты!L13+Результаты!L14+Результаты!L15+Результаты!L16 -> 137.37 | O7: 3 | P7: =Результаты!M13+Результаты!M14+Результаты!M15+Результаты!M16 -> 175.78 | Q7: 5 | R7: =Результаты!N13+Результаты!N14+Результаты!N15+Результаты!N16 -> 43 | S7: 4 | T7: =Результаты!O13+Результаты!O14+Результаты!O15+Результаты!O16 -> 15 | U7: 3 | V7: =O7+S7+U7+Q7 -> 15 | W7: 5 | X7: 269.17 | Y7: 1 | Z7: =Результаты!K13+Результаты!K14+Результаты!K15+Результаты!K16 -> 30 | AA7: 1 | AD7: =Результаты!J13+Результаты!J14+Результаты!J15+Результаты!J16 -> 89 | AE7: 4 | AF7: 3.4 | AG7: 5 | AH7: =Y7+AA7+AC7+AE7+AG7 -> 11 | AI7: 1 | AJ7: 2.3 | AK7: 5 | AL7: 3.56 | AM7: 5 | AP7: =Результаты!R13+Результаты!R14+Результаты!R15+Результаты!R16 -> 150 | AQ7: 1 | AR7: =AK7+AM7+AO7+AQ7 -> 11 | AS7: 4 | AT7: 27 | AU7: 3 | AV7: =M7+W7+AI7++AS7+AU7*2 -> 20 | AW7: 3
A8: 4 | B8: =Результаты!C17 -> "Кадеты" шк.95 Самара | C8: =Результаты!E17+Результаты!E18+Результаты!E19+Результаты!E20 -> 218 | D8: =Результаты!F17+Результаты!F18+Результаты!F19+Результаты!F20 -> 208 | E8: =Результаты!G17+Результаты!G18+Результаты!G19+Результаты!G20 -> 141 | F8: =C8+D8+E8 -> 567 | G8: 2 | H8: =Результаты!H17+Результаты!H18+Результаты!H19+Результаты!H20 -> 124.5 | I8: 1 | J8: =Результаты!I17+Результаты!I18+Результаты!I19+Результаты!I20 -> 14 | K8: 6 | L8: =G8+I8+K8 -> 9 | M8: 3 | N8: =Результаты!L17+Результаты!L18+Результаты!L19+Результаты!L20 -> 123.19 | O8: 1 | P8: =Результаты!M17+Результаты!M18+Результаты!M19+Результаты!M20 -> 170.01 | Q8: 4 | R8: =Результаты!N17+Результаты!N18+Результаты!N19+Результаты!N20 -> 29 | S8: 6 | T8: =Результаты!O17+Результаты!O18+Результаты!O19+Результаты!O20 -> 13 | U8: 4 | V8: =O8+S8+U8+Q8 -> 15 | W8: 4 | X8: 280.67 | Y8: 3 | Z8: =Результаты!K17+Результаты!K18+Результаты!K19+Результаты!K20 -> 0 | AA8: 6 | AD8: =Результаты!J17+Результаты!J18+Результаты!J19+Результаты!J20 -> 92 | AE8: 3 | AF8: 4.23 | AG8: 6 | AH8: =Y8+AA8+AC8+AE8+AG8 -> 18 | AI8: 6 | AJ8: 2.26 | AK8: 4 | AL8: 2.27 | AM8: 1 | AP8: =Результаты!R17+Результаты!R18+Результаты!R19+Результаты!R20 -> 120 | AQ8: 3 | AR8: =AK8+AM8+AO8+AQ8 -> 8 | AS8: 2 | AT8: 27 | AU8: 3 | AV8: =M8+W8+AI8++AS8+AU8*2 -> 21 | AW8: 4
A9: 1 | B9: =Результаты!C5 -> ВПК Десант Богатое | C9: =Результаты!E5+Результаты!E6+Результаты!E7+Результаты!E8 -> 129 | D9: =Результаты!F5+Результаты!F6+Результаты!F7+Результаты!F8 -> 108 | E9: =Результаты!G5+Результаты!G6+Результаты!G7+Результаты!G8 -> 176 | F9: =C9+D9+E9 -> 413 | G9: 6 | H9: =Результаты!H5+Результаты!H6+Результаты!H7+Результаты!H8 -> 110.2 | I9: 4 | J9: =Результаты!I5+Результаты!I6+Результаты!I7+Результаты!I8 -> 18 | K9: 3 | L9: =G9+I9+K9 -> 13 | M9: 5 | N9: =Результаты!L5+Результаты!L6+Результаты!L7+Результаты!L8 -> 148.72 | O9: 4 | P9: =Результаты!M5+Результаты!M6+Результаты!M7+Результаты!M8 -> 142.93 | Q9: 1 | R9: =Результаты!N5+Результаты!N6+Результаты!N7+Результаты!N8 -> 64 | S9: 2 | T9: =Результаты!O5+Результаты!O6+Результаты!O7+Результаты!O8 -> 19 | U9: 1 | V9: =O9+S9+U9+Q9 -> 8 | W9: 1 | X9: 337 | Y9: 6 | Z9: =Результаты!K5+Результаты!K6+Результаты!K7+Результаты!K8 -> 10 | AA9: 3 | AD9: =Результаты!J5+Результаты!J6+Результаты!J7+Результаты!J8 -> 93 | AE9: 2 | AF9: 3.07 | AG9: 3 | AH9: =Y9+AA9+AC9+AE9+AG9 -> 14 | AI9: 4 | AJ9: 1.25 | AK9: 2 | AL9: 2.38 | AM9: 2 | AP9: =Результаты!R5+Результаты!R6+Результаты!R7+Результаты!R8 -> 110 | AQ9: 4 | AR9: =AK9+AM9+AO9+AQ9 -> 8 | AS9: 3 | AT9: 31 | AU9: 5 | AV9: =M9+W9+AI9++AS9+AU9*2 -> 23 | AW9: 5
A10: 2 | B10: =Результаты!C9 -> ВПК ЮО "Гвардия" с.Богатое | C10: =Результаты!E9+Результаты!E10+Результаты!E11+Результаты!E12 -> 256 | D10: =Результаты!F9+Результаты!F10+Результаты!F11+Результаты!F12 -> 146 | E10: =Результаты!G9+Результаты!G10+Результаты!G11+Результаты!G12 -> 130 | F10: =C10+D10+E10 -> 532 | G10: 4 | H10: =Результаты!H9+Результаты!H10+Результаты!H11+Результаты!H12 -> 101.8 | I10: 5 | J10: =Результаты!I9+Результаты!I10+Результаты!I11+Результаты!I12 -> 15 | K10: 5 | L10: =G10+I10+K10 -> 14 | M10: 6 | N10: =Результаты!L9+Результаты!L10+Результаты!L11+Результаты!L12 -> 214.49 | O10: 6 | P10: =Результаты!M9+Результаты!M10+Результаты!M11+Результаты!M12 -> 152.26 | Q10: 2 | R10: =Результаты!N9+Результаты!N10+Результаты!N11+Результаты!N12 -> 33 | S10: 5 | T10: =Результаты!O9+Результаты!O10+Результаты!O11+Результаты!O12 -> 17 | U10: 2 | V10: =O10+S10+U10+Q10 -> 15 | W10: 3 | X10: 286.44 | Y10: 4 | Z10: =Результаты!K9+Результаты!K10+Результаты!K11+Результаты!K12 -> 5 | AA10: 5 | AD10: =Результаты!J9+Результаты!J10+Результаты!J11+Результаты!J12 -> 95 | AE10: 1 | AF10: 2.16 | AG10: 1 | AH10: =Y10+AA10+AC10+AE10+AG10 -> 11 | AI10: 2 | AJ10: 1.05 | AK10: 1 | AL10: 4.38 | AM10: 6 | AP10: =Результаты!R9+Результаты!R10+Результаты!R11+Результаты!R12 -> 0 | AQ10: 6 | AR10: =AK10+AM10+AO10+AQ10 -> 13 | AS10: 5 | AT10: 35 | AU10: 6 | AV10: =M10+W10+AI10++AS10+AU10*2 -> 28 | AW10: 6

Sheet  личка девушки
A2: № п/п | B2: Участники | E2: =Результаты!E2 -> физ.подготовка
E3: =Результаты!E3 -> пресс (баллы) | F3: =Результаты!F3 -> отжим баллы (девуш.) подтягивание баллы (юн) | G3: =Результаты!G3 -> челночный бег (баллы) | H3: итог по блоку | J3: =Результаты!N3 -> стрельба винтовка
B4: №команды | C4: Название команды | D4: Фамилия, имя участника команды | E4: результат | F4: результат | G4: результат | H4: сумма баллов | I4: место | J4: результат | K4: место
A5: 12 | B5: 3 | C5: =Результаты!C13 -> ВПК "Гвардеец ДОСААФ" г.Отрадный | D5: =Результаты!D16 -> Ганичкина Софья | E5: =Результаты!E16 -> 60 | F5: =Результаты!F16 -> 86 | G5: =Результаты!G16 -> 82 | H5: =E5+F5+G5 -> 228 | I5: 1 | J5: =Результаты!N16 -> 14 | K5: 1
A6: 20 | B6: 5 | C6: =Результаты!C21 -> Галеас г.Ясный Оренбург | D6: =Результаты!D24 -> Трипольская Анастасия | E6: =Результаты!E24 -> 62 | F6: =Результаты!F24 -> 100 | G6: =Результаты!G24 -> 65 | H6: =E6+F6+G6 -> 227 | I6: 2 | J6: =Результаты!N24 -> 5 | K6: 5
A7: 24 | B7: 6 | C7: =Результаты!C25 -> ВПК Авангард г.Самара | D7: =Результаты!D28 -> Попова Елизавета | E7: =Результаты!E28 -> 40 | F7: =Результаты!F28 -> 97 | G7: =Результаты!G28 -> 84 | H7: =E7+F7+G7 -> 221 | I7: 3 | J7: =Результаты!N28 -> 9 | K7: 3
A8: 16 | B8: 4 | C8: =Результаты!C17 -> "Кадеты" шк.95 Самара | D8: =Результаты!D20 -> Горбань Виолета | E8: =Результаты!E20 -> 62 | F8: =Результаты!F20 -> 26 | G8: =Результаты!G20 -> 72 | H8: =E8+F8+G8 -> 160 | I8: 4 | J8: =Результаты!N20 -> 11 | K8: 2
A9: 8 | B9: 2 | C9: =Результаты!C9 -> ВПК ЮО "Гвардия" с.Богатое | D9: =Результаты!D12 -> Попова Кира | E9: =Результаты!E12 -> 56 | F9: =Результаты!F12 -> 34 | G9: =Результаты!G12 -> 68 | H9: =E9+F9+G9 -> 158 | I9: 5 | J9: =Результаты!N12 -> 4 | K9: 6
A10: 4 | B10: 1 | C10: =Результаты!C5 -> ВПК Десант Богатое | D10: =Результаты!D8 -> Прокопчук Варвара | E10: =Результаты!E8 -> 30 | F10: =Результаты!F8 -> 42 | G10: =Результаты!G8 -> 63 | H10: =E10+F10+G10 -> 135 | I10: 6 | J10: =Результаты!N8 -> 8 | K10: 4

Sheet личка юноши
A2: № п/п | B2: Участники | E2: =Результаты!E2 -> физ.подготовка
E3: =Результаты!E3 -> пресс (баллы) | F3: =Результаты!F3 -> отжим баллы (девуш.) подтягивание баллы (юн) | G3: =Результаты!G3 -> челночный бег (баллы) | H3: итог по блоку | J3: =Результаты!N3 -> стрельба винтовка
B4: №команды | C4: Название команды | D4: Фамилия, имя участника команды | E4: результат | F4: результат | G4: результат | H4: сумма баллов | I4: место | J4: результат | K4: место
A5: 22 | B5: 6 | C5: =Результаты!$C$25 -> ВПК Авангард г.Самара | D5: =Результаты!D26 -> Рахимов Тимур | E5: =Результаты!E26 -> 40 | F5: =Результаты!F26 -> 54 | G5: =Результаты!G26 -> 41 | H5: =E5+F5+G5 -> 135 | I5: 5 | J5: =Результаты!N26 -> 34 | K5: 1
A6: 1 | B6: 1 | C6: =Результаты!$C$5 -> ВПК Десант Богатое | D6: =Результаты!D5 -> Салькин Дамир | E6: =Результаты!E5 -> 40 | F6: =Результаты!F5 -> 54 | G6: =Результаты!G5 -> 80 | H6: =E6+F6+G6 -> 174 | I6: 1 | J6: =Результаты!N5 -> 23 | K6: 2
A7: 10 | B7: 3 | C7: =Результаты!$C$13 -> ВПК "Гвардеец ДОСААФ" г.Отрадный | D7: =Результаты!D14 -> Мартемьянов Никита | E7: =Результаты!E14 -> 32 | F7: =Результаты!F14 -> 42 | G7: =Результаты!G14 -> 19 | H7: =E7+F7+G7 -> 93 | J7: =Результаты!N14 -> 20 | K7: 3
A8: 2 | B8: =B7 -> 3 | C8: =Результаты!$C$5 -> ВПК Десант Богатое | D8: =Результаты!D6 -> Рузавкин Дмитрий | E8: =Результаты!E6 -> 35 | F8: =Результаты!F6 -> 6 | G8: =Результаты!G6 -> 18 | H8: =E8+F8+G8 -> 59 | J8: =Результаты!N6 -> 20 | K8: 4
A9: 7 | B9: 2 | C9: =Результаты!$C$9 -> ВПК ЮО "Гвардия" с.Богатое | D9: =Результаты!D11 -> Козлов Дмитрий | E9: =Результаты!E11 -> 74 | F9: =Результаты!F11 -> 0 | G9: =Результаты!G11 -> 21 | H9: =E9+F9+G9 -> 95 | J9: =Результаты!N11 -> 19
A10: 19 | B10: 5 | C10: =Результаты!$C$21 -> Галеас г.Ясный Оренбург | D10: =Результаты!D23 -> Бенеда Кирилл | E10: =Результаты!E23 -> 46 | F10: =Результаты!F23 -> 70 | G10: =Результаты!G23 -> 18 | H10: =E10+F10+G10 -> 134 | J10: =Результаты!N23 -> 18
A11: 17 | B11: 5 | C11: =Результаты!$C$21 -> Галеас г.Ясный Оренбург | D11: =Результаты!D21 -> Смирнов Глеб | E11: =Результаты!E21 -> 40 | F11: =Результаты!F21 -> 34 | G11: =Результаты!G21 -> 26 | H11: =E11+F11+G11 -> 100 | J11: =Результаты!N21 -> 18
A12: 21 | B12: 6 | C12: =Результаты!$C$25 -> ВПК Авангард г.Самара | D12: =Результаты!D25 -> Гречушников Максим | E12: =Результаты!E25 -> 40 | F12: =Результаты!F25 -> 26 | G12: =Результаты!G25 -> 16 | H12: =E12+F12+G12 -> 82 | J12: =Результаты!N25 -> 17
A13: 23 | B13: 6 | C13: =Результаты!$C$25 -> ВПК Авангард г.Самара | D13: =Результаты!D27 -> Климов Михаил | E13: =Результаты!E27 -> 37 | F13: =Результаты!F27 -> 61 | G13: =Результаты!G27 -> 29 | H13: =E13+F13+G13 -> 127 | J13: =Результаты!N27 -> 16
A14: 18 | B14: 5 | C14: =Результаты!$C$21 -> Галеас г.Ясный Оренбург | D14: =Результаты!D22 -> Пащенко Александр | E14: =Результаты!E22 -> 36 | F14: =Результаты!F22 -> 54 | G14: =Результаты!G22 -> 20 | H14: =E14+F14+G14 -> 110 | J14: =Результаты!N22 -> 14
A15: 3 | B15: =B13 -> 6 | C15: =Результаты!$C$5 -> ВПК Десант Богатое | D15: =Результаты!D7 -> Мельниченко Даниил | E15: =Результаты!E7 -> 24 | F15: =Результаты!F7 -> 6 | G15: =Результаты!G7 -> 15 | H15: =E15+F15+G15 -> 45 | J15: =Результаты!N7 -> 13
A16: 13 | B16: 4 | C16: =Результаты!$C$17 -> "Кадеты" шк.95 Самара | D16: =Результаты!D17 -> Шевченко Андрей | E16: =Результаты!E17 -> 48 | F16: =Результаты!F17 -> 58 | G16: =Результаты!G17 -> 20 | H16: =E16+F16+G16 -> 126 | J16: =Результаты!N17 -> 9
A17: 9 | B17: 3 | C17: =Результаты!$C$13 -> ВПК "Гвардеец ДОСААФ" г.Отрадный | D17: =Результаты!D13 -> Звягин Илья | E17: =Результаты!E13 -> 38 | F17: =Результаты!F13 -> 16 | G17: =Результаты!G13 -> 21 | H17: =E17+F17+G17 -> 75 | J17: =Результаты!N13 -> 8
A18: 15 | B18: 4 | C18: =Результаты!$C$17 -> "Кадеты" шк.95 Самара | D18: =Результаты!D19 -> Грушута Георий | E18: =Результаты!E19 -> 58 | F18: =Результаты!F19 -> 66 | G18: =Результаты!G19 -> 17 | H18: =E18+F18+G18 -> 141 | I18: 3 | J18: =Результаты!N19 -> 7
A19: 6 | B19: 2 | C19: =Результаты!$C$9 -> ВПК ЮО "Гвардия" с.Богатое | D19: =Результаты!D10 -> Цымбал Павел | E19: =Результаты!E10 -> 62 | F19: =Результаты!F10 -> 50 | G19: =Результаты!G10 -> 20 | H19: =E19+F19+G19 -> 132 | J19: =Результаты!N10 -> 6
A20: 5 | B20: 2 | C20: =Результаты!$C$9 -> ВПК ЮО "Гвардия" с.Богатое | D20: =Результаты!D9 -> Лавринов Дмитрий | E20: =Результаты!E9 -> 64 | F20: =Результаты!F9 -> 62 | G20: =Результаты!G9 -> 21 | H20: =E20+F20+G20 -> 147 | I20: 2 | J20: =Результаты!N9 -> 4
A21: 14 | B21: 4 | C21: =Результаты!$C$17 -> "Кадеты" шк.95 Самара | D21: =Результаты!D18 -> Прохоров Никита | E21: =Результаты!E18 -> 50 | F21: =Результаты!F18 -> 58 | G21: =Результаты!G18 -> 32 | H21: =E21+F21+G21 -> 140 | I21: 4 | J21: =Результаты!N18 -> 2
A22: 11 | B22: 3 | C22: =Результаты!$C$13 -> ВПК "Гвардеец ДОСААФ" г.Отрадный | D22: =Результаты!D15 -> Лемешко Алексей | E22: =Результаты!E15 -> 40 | F22: =Результаты!F15 -> 34 | G22: =Результаты!G15 -> 16 | H22: =E22+F22+G22 -> 90 | J22: =Результаты!N15 -> 1

Sheet грамоты
A1: Категория : | C1: =Результаты!B2 -> ВПК младшие
A2: Грамоты по блокам | C2: Военно-спортивная подготовка
B3: 1 место
B4: 2 место
B5: 3место
C7: Огневая подготовка
B8: 1 место
B9: 2 место
B10: 3место
C12: Военно-прикладные виды
B13: 1 место
B14: 2 место
B15: 3место
C17: Силовой марш-бросок
B18: 1 место
B19: 2 место
B20: 3место
A22: ДИПЛОМ соревнований
B23: 1 место
B24: 2 место
B25: 3место
A42: Категория : | C42: =Результаты!B2 -> ВПК младшие
B43: медали | C43: ДЕВУШКИ
B44: Физическая подготовка
B45: 1 место
B46: 2 место
B47: 3место
B49: Стрельба из пневматической винтовки
B50: 1 место
B51: 2 место
B52: 3место
B54: медали | C54: ЮНОШИ
B55: Физическая подготовка
B56: 1 место
B57: 2 место
B58: 3место
B60: Стрельба из пневматической винтовки
B61: 1 место
B62: 2 место
B63: 3место
B65: Капитанский конкурс
B66: 1 место
B67: 2 место
B68: 3место
